BEGIN:VCALENDAR
VERSION:2.0
PRODID:-//SPCA of Texas - ECPv6.15.18//NONSGML v1.0//EN
CALSCALE:GREGORIAN
METHOD:PUBLISH
X-WR-CALNAME:SPCA of Texas
X-ORIGINAL-URL:https://spca.org
X-WR-CALDESC:Events for SPCA of Texas
REFRESH-INTERVAL;VALUE=DURATION:PT1H
X-Robots-Tag:noindex
X-PUBLISHED-TTL:PT1H
BEGIN:VTIMEZONE
TZID:America/Chicago
BEGIN:DAYLIGHT
TZOFFSETFROM:-0600
TZOFFSETTO:-0500
TZNAME:CDT
DTSTART:20250309T080000
END:DAYLIGHT
BEGIN:STANDARD
TZOFFSETFROM:-0500
TZOFFSETTO:-0600
TZNAME:CST
DTSTART:20251102T070000
END:STANDARD
BEGIN:DAYLIGHT
TZOFFSETFROM:-0600
TZOFFSETTO:-0500
TZNAME:CDT
DTSTART:20260308T080000
END:DAYLIGHT
BEGIN:STANDARD
TZOFFSETFROM:-0500
TZOFFSETTO:-0600
TZNAME:CST
DTSTART:20261101T070000
END:STANDARD
BEGIN:DAYLIGHT
TZOFFSETFROM:-0600
TZOFFSETTO:-0500
TZNAME:CDT
DTSTART:20270314T080000
END:DAYLIGHT
BEGIN:STANDARD
TZOFFSETFROM:-0500
TZOFFSETTO:-0600
TZNAME:CST
DTSTART:20271107T070000
END:STANDARD
END:VTIMEZONE
BEGIN:VEVENT
DTSTART;TZID=America/Chicago:20260416T130000
DTEND;TZID=America/Chicago:20260416T200000
DTSTAMP:20260420T032803
CREATED:20260409T161716Z
LAST-MODIFIED:20260409T161716Z
UID:20001487-1776344400-1776369600@spca.org
SUMMARY:Mobile Adoptions & More @ The NCAA Women's Gymnastics Fan Fair
DESCRIPTION:Join the SPCA of Texas on Thursday\, April 16th from 1-8pm at Dickies Arena\, Yellow Lot\, 3464 Trail Drive\, Fort Worth\, TX 76107 and meet your new best friend! Purchase tickets now! \n\n 
URL:https://spca.org/event/mobile-adoptions-ncaa-womens-gymnastics-fan-fair/
LOCATION:Dickies Arena\, 3464 Trail Drive\, Fort Worth\, 76107
CATEGORIES:Adoption,﻿Featured,mobile-adoption
ATTACH;FMTTYPE=image/jpeg:https://spca.org/wp-content/uploads/2026/04/NCAA-April-16_1080x1080.jpg
END:VEVENT
BEGIN:VEVENT
DTSTART;TZID=America/Chicago:20260416T180000
DTEND;TZID=America/Chicago:20260416T200000
DTSTAMP:20260420T032803
CREATED:20251230T215949Z
LAST-MODIFIED:20260407T140513Z
UID:20001434-1776362400-1776369600@spca.org
SUMMARY:Professionals Network Elevated Evenings Panel
DESCRIPTION:Ready to level up your leadership? Join us for Elevated Evenings\, a professional development series designed for emerging leaders who want to grow their careers\, expand their networks\, and make meaningful impact. \nFor this special Leadership in Action Panel\, SPCA of Texas leaders will share the real stories behind their career paths — the pivots\, the lessons learned\, the risks taken\, and the leadership insights that don’t always make it onto a résumé. You’ll gain practical advice on advancing your career\, building influence\, and getting involved in nonprofit board service. \nCome connect with like-minded professionals\, enjoy light refreshments\, and walk away with actionable takeaways you can apply immediately. \nPanelists: \n\nEric Broughton — Senior Sales Director\, Healthcare\nJudith Dumont — Vice President\, People & Culture\, SPCA of Texas\nVanessa Farris — Senior Director\, Customer Growth\, The Coca-Cola Company\nMichael A. Gonzales — Counsel\, Lathrop GPM \nMarilee McInnis — Global Communications & Reputations Advisor\n\nLocation: SPCA of Texas – Dallas Animal Care Center\, 2400 Lone Star Drive\, Dallas\, TX 75212\nDate: Thursday\, April 16\nTime: 6:00 – 8:00 PM\n6:00 – 6:30 PM | Mingling & Refreshments\n6:30 – 7:30 PM | Panel Discussion\n7:30 – 8:00 PM | Mingling & Q&A \nTickets:\n• Current Professionals Network Members: Complimentary (RSVP via the Professionals Network Portal.)\n• General Admission: Click Here to Purchase Tickets! ($25 donation)
URL:https://spca.org/event/professionals-network-elevated-evenings-panel/
LOCATION:SPCA of Texas’ Dallas Animal Care Center\, 2400 Lone Star Dr.\, Dallas\, TX\, 75212\, United States
CATEGORIES:﻿Featured,Professionals Network
ATTACH;FMTTYPE=image/jpeg:https://spca.org/wp-content/uploads/2025/12/Professionals-Network-April-16th-1080x1080-1-scaled.jpg
END:VEVENT
END:VCALENDAR