BEGIN:VCALENDAR
VERSION:2.0
PRODID:-//SPCA of Texas - ECPv6.15.18//NONSGML v1.0//EN
CALSCALE:GREGORIAN
METHOD:PUBLISH
X-WR-CALNAME:SPCA of Texas
X-ORIGINAL-URL:https://spca.org
X-WR-CALDESC:Events for SPCA of Texas
REFRESH-INTERVAL;VALUE=DURATION:PT1H
X-Robots-Tag:noindex
X-PUBLISHED-TTL:PT1H
BEGIN:VTIMEZONE
TZID:America/Chicago
BEGIN:DAYLIGHT
TZOFFSETFROM:-0600
TZOFFSETTO:-0500
TZNAME:CDT
DTSTART:20240310T080000
END:DAYLIGHT
BEGIN:STANDARD
TZOFFSETFROM:-0500
TZOFFSETTO:-0600
TZNAME:CST
DTSTART:20241103T070000
END:STANDARD
BEGIN:DAYLIGHT
TZOFFSETFROM:-0600
TZOFFSETTO:-0500
TZNAME:CDT
DTSTART:20250309T080000
END:DAYLIGHT
BEGIN:STANDARD
TZOFFSETFROM:-0500
TZOFFSETTO:-0600
TZNAME:CST
DTSTART:20251102T070000
END:STANDARD
BEGIN:DAYLIGHT
TZOFFSETFROM:-0600
TZOFFSETTO:-0500
TZNAME:CDT
DTSTART:20260308T080000
END:DAYLIGHT
BEGIN:STANDARD
TZOFFSETFROM:-0500
TZOFFSETTO:-0600
TZNAME:CST
DTSTART:20261101T070000
END:STANDARD
END:VTIMEZONE
BEGIN:VEVENT
DTSTART;TZID=America/Chicago:20250405T100000
DTEND;TZID=America/Chicago:20250406T160000
DTSTAMP:20260421T071032
CREATED:20250317T164425Z
LAST-MODIFIED:20250317T164425Z
UID:20001323-1743847200-1743955200@spca.org
SUMMARY:Mobile Adoptions at the Petco Love Mega Adoption Event
DESCRIPTION:Join the Humane Society of North Texas (HSNT) and other North Texas animal shelters coming together to find homes for over 1\,000 pets on Saturday April 5th from 10AM-5PM\, and Sunday\, April 6th from 10AM-4PM at the Kay Bailey Hutchison Convention Center Dallas\, 650 S Griffin St\, Dallas\, TX 75202! This Petco Love MEGA Adoption Event features dogs\, cats\, and other small furry pets. All adoption fees will be $25 or less and include spay/neutering\, microchipping\, and age-appropriate vaccinations! \nAdmission is free\, however event parking may vary.​ \nPets cannot be reserved in advance\, so be the first to arrive by getting there early! This event excludes equine and livestock. \n​​We strongly encourage you to purchase the Early Bird Fast Pass to be one of the first to adopt as we expect 5\,000 attendees. The Early Bird Fast Pass will be Saturday\, April 5th\, 9AM-10AM\, and is a $50 fee paid in advance. This Fast Pass will allow you to enter the MEGA Adoption Event prior to doors opening to the public at 10AM so you can browse all available pets\, and be the first to adopt! The Early Bird Fast Pass doesn’t cover the $25 or less adoption fee and is reserved for the first 150 people registered and paid in advance. Please fill out the form below. A confirmation will be emailed to you as proof of payment and will be used as your Early Bird entry on Saturday\, April 5th. CLICK HERE TO PURCHASE EARLY BIRD FAST PASS. \nLearn more at: hsnt.org/mega
URL:https://spca.org/event/mobile-adoptions-at-the-petco-love-mega-adoption-event/
LOCATION:Kay Bailey Hutchison Convention Center Dallas\, 650 S Griffin St\, Dallas\, Texas\, 75202
CATEGORIES:Adoption,﻿Featured,﻿Mobile Adoption,mobile-adoption
ATTACH;FMTTYPE=image/png:https://spca.org/wp-content/uploads/2025/03/1.png
END:VEVENT
BEGIN:VEVENT
DTSTART;TZID=America/Chicago:20250405T130000
DTEND;TZID=America/Chicago:20250405T160000
DTSTAMP:20260421T071032
CREATED:20250311T183035Z
LAST-MODIFIED:20250404T193400Z
UID:20001319-1743858000-1743868800@spca.org
SUMMARY:Mobile Adoptions at The Barking Project
DESCRIPTION:Join the SPCA of Texas on April 5th from 1pm-4pm for mobile adoptions at The Barking Project Adoption Event – Paws for a Cause and Adopt a Dog at  3656 Howell St\, Dallas TX\, 75204 \nDonate & Buy a Raffle Ticket here – https://www.thebarkingproject.com
URL:https://spca.org/event/mobile-adoptions-at-the-barking-project-3/
LOCATION:MUTTS Canine Cantina
CATEGORIES:Adoption,﻿Featured,mobile-adoption
ATTACH;FMTTYPE=image/png:https://spca.org/wp-content/uploads/2025/03/barking-project.png
END:VEVENT
END:VCALENDAR