BEGIN:VCALENDAR
VERSION:2.0
PRODID:-//SPCA of Texas - ECPv6.15.18//NONSGML v1.0//EN
CALSCALE:GREGORIAN
METHOD:PUBLISH
X-WR-CALNAME:SPCA of Texas
X-ORIGINAL-URL:https://spca.org
X-WR-CALDESC:Events for SPCA of Texas
REFRESH-INTERVAL;VALUE=DURATION:PT1H
X-Robots-Tag:noindex
X-PUBLISHED-TTL:PT1H
BEGIN:VTIMEZONE
TZID:America/Chicago
BEGIN:DAYLIGHT
TZOFFSETFROM:-0600
TZOFFSETTO:-0500
TZNAME:CDT
DTSTART:20240310T080000
END:DAYLIGHT
BEGIN:STANDARD
TZOFFSETFROM:-0500
TZOFFSETTO:-0600
TZNAME:CST
DTSTART:20241103T070000
END:STANDARD
BEGIN:DAYLIGHT
TZOFFSETFROM:-0600
TZOFFSETTO:-0500
TZNAME:CDT
DTSTART:20250309T080000
END:DAYLIGHT
BEGIN:STANDARD
TZOFFSETFROM:-0500
TZOFFSETTO:-0600
TZNAME:CST
DTSTART:20251102T070000
END:STANDARD
BEGIN:DAYLIGHT
TZOFFSETFROM:-0600
TZOFFSETTO:-0500
TZNAME:CDT
DTSTART:20260308T080000
END:DAYLIGHT
BEGIN:STANDARD
TZOFFSETFROM:-0500
TZOFFSETTO:-0600
TZNAME:CST
DTSTART:20261101T070000
END:STANDARD
END:VTIMEZONE
BEGIN:VEVENT
DTSTART;TZID=America/Chicago:20250316T120000
DTEND;TZID=America/Chicago:20250316T160000
DTSTAMP:20260421T070501
CREATED:20250310T214901Z
LAST-MODIFIED:20250314T173403Z
UID:20001318-1742126400-1742140800@spca.org
SUMMARY:North Shore Animal League’s Tour for Life
DESCRIPTION:Tour For Life is celebrating 25 years on the road as the world’s largest mobile cooperative lifesaving pet adoption event! \nJoin us on Sunday\, March 16 from noon to 4 p.m. at the SPCA of Texas’ Dallas Animal Care Center at 2400 Lone Star Drive as we team up to help find loving homes for dogs\, cats\, puppies\, and kittens. Get ready to find your new best friend and learn just how much RESCUE ROCKS! \nSpecials & Activities:\nSpecial thanks to our sponsor\, Lifeproof™ with Petproof™ Technology which can be found exclusively at The Home Depot. Stop by to see and learn about their carpet for pet parents and busy families.\nFor more information\, please visit: www.animalleague.org/DallasTFL
URL:https://spca.org/event/north-shore-animal-leagues-tour-for-life/
LOCATION:SPCA of Texas’ Dallas Animal Care Center 2400 Lone Star Drive Dallas\, TX 75212\, Texas
CATEGORIES:﻿Featured
ATTACH;FMTTYPE=image/png:https://spca.org/wp-content/uploads/2025/03/TFL-Post-1-Event-CatDog-1080x1080-1.png
END:VEVENT
END:VCALENDAR