BEGIN:VCALENDAR
VERSION:2.0
PRODID:-//SPCA of Texas - ECPv6.15.18//NONSGML v1.0//EN
CALSCALE:GREGORIAN
METHOD:PUBLISH
X-WR-CALNAME:SPCA of Texas
X-ORIGINAL-URL:https://spca.org
X-WR-CALDESC:Events for SPCA of Texas
REFRESH-INTERVAL;VALUE=DURATION:PT1H
X-Robots-Tag:noindex
X-PUBLISHED-TTL:PT1H
BEGIN:VTIMEZONE
TZID:America/Chicago
BEGIN:DAYLIGHT
TZOFFSETFROM:-0600
TZOFFSETTO:-0500
TZNAME:CDT
DTSTART:20240310T080000
END:DAYLIGHT
BEGIN:STANDARD
TZOFFSETFROM:-0500
TZOFFSETTO:-0600
TZNAME:CST
DTSTART:20241103T070000
END:STANDARD
BEGIN:DAYLIGHT
TZOFFSETFROM:-0600
TZOFFSETTO:-0500
TZNAME:CDT
DTSTART:20250309T080000
END:DAYLIGHT
BEGIN:STANDARD
TZOFFSETFROM:-0500
TZOFFSETTO:-0600
TZNAME:CST
DTSTART:20251102T070000
END:STANDARD
BEGIN:DAYLIGHT
TZOFFSETFROM:-0600
TZOFFSETTO:-0500
TZNAME:CDT
DTSTART:20260308T080000
END:DAYLIGHT
BEGIN:STANDARD
TZOFFSETFROM:-0500
TZOFFSETTO:-0600
TZNAME:CST
DTSTART:20261101T070000
END:STANDARD
END:VTIMEZONE
BEGIN:VEVENT
DTSTART;TZID=America/Chicago:20250309T150000
DTEND;TZID=America/Chicago:20250309T173000
DTSTAMP:20260421T071031
CREATED:20250306T232132Z
LAST-MODIFIED:20250306T232132Z
UID:20001315-1741532400-1741541400@spca.org
SUMMARY:Mobile Adoptions at Dallas Trinity's Women's Day Celebration
DESCRIPTION:Join the SPCA of Texas at Dallas Trinity’s Women’s Day Celebration on Sunday\, March 9th from 3PM-5:30PM at the Cotton Bowl\, 3750 Cotton Bowl Circle\, Dallas\, TX 75210 and meet your new furry best friend\, check out pawsome vendors\, listen to music and more!
URL:https://spca.org/event/mobile-adoptions-at-dallas-trinitys-womens-day-celebration/
LOCATION:Cotton Bowl\, 3750 Cotton Bowl Circle\, Dallas\, 75210
CATEGORIES:Adoption,﻿Featured,﻿Mobile Adoption,mobile-adoption
ATTACH;FMTTYPE=image/jpeg:https://spca.org/wp-content/uploads/2025/03/Dallas-Trinity-Womens-day-3-9_1080x1080.jpg
END:VEVENT
END:VCALENDAR