BEGIN:VCALENDAR
VERSION:2.0
PRODID:-//SPCA of Texas - ECPv6.15.18//NONSGML v1.0//EN
CALSCALE:GREGORIAN
METHOD:PUBLISH
X-WR-CALNAME:SPCA of Texas
X-ORIGINAL-URL:https://spca.org
X-WR-CALDESC:Events for SPCA of Texas
REFRESH-INTERVAL;VALUE=DURATION:PT1H
X-Robots-Tag:noindex
X-PUBLISHED-TTL:PT1H
BEGIN:VTIMEZONE
TZID:America/Chicago
BEGIN:DAYLIGHT
TZOFFSETFROM:-0600
TZOFFSETTO:-0500
TZNAME:CDT
DTSTART:20240310T080000
END:DAYLIGHT
BEGIN:STANDARD
TZOFFSETFROM:-0500
TZOFFSETTO:-0600
TZNAME:CST
DTSTART:20241103T070000
END:STANDARD
BEGIN:DAYLIGHT
TZOFFSETFROM:-0600
TZOFFSETTO:-0500
TZNAME:CDT
DTSTART:20250309T080000
END:DAYLIGHT
BEGIN:STANDARD
TZOFFSETFROM:-0500
TZOFFSETTO:-0600
TZNAME:CST
DTSTART:20251102T070000
END:STANDARD
BEGIN:DAYLIGHT
TZOFFSETFROM:-0600
TZOFFSETTO:-0500
TZNAME:CDT
DTSTART:20260308T080000
END:DAYLIGHT
BEGIN:STANDARD
TZOFFSETFROM:-0500
TZOFFSETTO:-0600
TZNAME:CST
DTSTART:20261101T070000
END:STANDARD
END:VTIMEZONE
BEGIN:VEVENT
DTSTART;TZID=America/Chicago:20250227T183000
DTEND;TZID=America/Chicago:20250227T203000
DTSTAMP:20260421T070951
CREATED:20250205T163035Z
LAST-MODIFIED:20250205T163105Z
UID:20001304-1740681000-1740688200@spca.org
SUMMARY:Young Professionals Happy Hour at Culinary Dropout
DESCRIPTION:Join the SPCA of Texas’ Young Professionals on February 27th from 6:30-8:30PM for our first social happy-hour of 2025 with fellow animal lovers at Culinary Dropout\, 150 Turtle Creek Blvd # 101\, Dallas\, TX 75207. \nEnjoy great company\, drinks\, and bites while supporting the SPCA of Texas with a supply drive—bring friends and donatable items to make a difference. Please RSVP through your Digital Cheetah account if you are already a member! \nNot a member? RSVP to let us know you will be joining us below! \n\n 
URL:https://spca.org/event/young-professionals-happy-hour/
LOCATION:Culinary Dropout\, 150 Turtle Creek Blvd # 101\, Dallas\, 75207
CATEGORIES:﻿Featured,Professionals Network
ATTACH;FMTTYPE=image/jpeg:https://spca.org/wp-content/uploads/2025/02/1080X1080-CULINARY-DROPOUT-HAPPY-HOUR.jpg
END:VEVENT
END:VCALENDAR